BEGIN:VCALENDAR
VERSION:2.0
PRODID:-//Quad NB - ECPv6.15.20//NONSGML v1.0//EN
CALSCALE:GREGORIAN
METHOD:PUBLISH
X-ORIGINAL-URL:https://quadnb.ca
X-WR-CALDESC:Events for Quad NB
REFRESH-INTERVAL;VALUE=DURATION:PT1H
X-Robots-Tag:noindex
X-PUBLISHED-TTL:PT1H
BEGIN:VTIMEZONE
TZID:America/Moncton
BEGIN:DAYLIGHT
TZOFFSETFROM:-0400
TZOFFSETTO:-0300
TZNAME:ADT
DTSTART:20240310T060000
END:DAYLIGHT
BEGIN:STANDARD
TZOFFSETFROM:-0300
TZOFFSETTO:-0400
TZNAME:AST
DTSTART:20241103T050000
END:STANDARD
BEGIN:DAYLIGHT
TZOFFSETFROM:-0400
TZOFFSETTO:-0300
TZNAME:ADT
DTSTART:20250309T060000
END:DAYLIGHT
BEGIN:STANDARD
TZOFFSETFROM:-0300
TZOFFSETTO:-0400
TZNAME:AST
DTSTART:20251102T050000
END:STANDARD
BEGIN:DAYLIGHT
TZOFFSETFROM:-0400
TZOFFSETTO:-0300
TZNAME:ADT
DTSTART:20260308T060000
END:DAYLIGHT
BEGIN:STANDARD
TZOFFSETFROM:-0300
TZOFFSETTO:-0400
TZNAME:AST
DTSTART:20261101T050000
END:STANDARD
BEGIN:DAYLIGHT
TZOFFSETFROM:-0400
TZOFFSETTO:-0300
TZNAME:ADT
DTSTART:20270314T060000
END:DAYLIGHT
BEGIN:STANDARD
TZOFFSETFROM:-0300
TZOFFSETTO:-0400
TZNAME:AST
DTSTART:20271107T050000
END:STANDARD
END:VTIMEZONE
BEGIN:VEVENT
DTSTART;TZID=America/Moncton:20260421T190000
DTEND;TZID=America/Moncton:20260421T200000
DTSTAMP:20260425T183258
CREATED:20251119T170422Z
LAST-MODIFIED:20251216T170808Z
UID:10002514-1776798000-1776801600@quadnb.ca
SUMMARY:General meeting - Petty Trail Blazers
DESCRIPTION:All members are welcome and encouraged to attend the Petty Trail Blazers ATV Club's monthly general meeting! \n  \nCome out and hear what we have on the go and give us your ideas and feedback!
URL:https://quadnb.ca/activity/general-meeting/2026-04-21/
LOCATION:Petty Trail Blazers ATV Club #33\, 25 Maple Street\, Petitcodiac\, NB\, Canada
CATEGORIES:Meetings
ATTACH;FMTTYPE=image/png:https://quadnb.ca/wp-content/uploads/2025/11/1000014877.png
ORGANIZER;CN="Petty Trail Blazers ATV Club Inc. (#33)":MAILTO:ptbatvclub@yahoo.com
GEO:45.92626;-65.17174
X-APPLE-STRUCTURED-LOCATION;VALUE=URI;X-ADDRESS=Petty Trail Blazers ATV Club #33 25 Maple Street Petitcodiac NB Canada;X-APPLE-RADIUS=500;X-TITLE=25 Maple Street:geo:-65.17174,45.92626
END:VEVENT
BEGIN:VEVENT
DTSTART;TZID=America/Moncton:20260317T190000
DTEND;TZID=America/Moncton:20260317T200000
DTSTAMP:20260425T183258
CREATED:20251119T170422Z
LAST-MODIFIED:20251216T170808Z
UID:10002513-1773774000-1773777600@quadnb.ca
SUMMARY:General meeting - Petty Trail Blazers
DESCRIPTION:All members are welcome and encouraged to attend the Petty Trail Blazers ATV Club's monthly general meeting! \n  \nCome out and hear what we have on the go and give us your ideas and feedback!
URL:https://quadnb.ca/activity/general-meeting/2026-03-17/
LOCATION:Petty Trail Blazers ATV Club #33\, 25 Maple Street\, Petitcodiac\, NB\, Canada
CATEGORIES:Meetings
ATTACH;FMTTYPE=image/png:https://quadnb.ca/wp-content/uploads/2025/11/1000014877.png
ORGANIZER;CN="Petty Trail Blazers ATV Club Inc. (#33)":MAILTO:ptbatvclub@yahoo.com
GEO:45.92626;-65.17174
X-APPLE-STRUCTURED-LOCATION;VALUE=URI;X-ADDRESS=Petty Trail Blazers ATV Club #33 25 Maple Street Petitcodiac NB Canada;X-APPLE-RADIUS=500;X-TITLE=25 Maple Street:geo:-65.17174,45.92626
END:VEVENT
BEGIN:VEVENT
DTSTART;TZID=America/Moncton:20260217T190000
DTEND;TZID=America/Moncton:20260217T200000
DTSTAMP:20260425T183258
CREATED:20251119T170422Z
LAST-MODIFIED:20251216T170808Z
UID:10002512-1771354800-1771358400@quadnb.ca
SUMMARY:General meeting - Petty Trail Blazers
DESCRIPTION:All members are welcome and encouraged to attend the Petty Trail Blazers ATV Club's monthly general meeting! \n  \nCome out and hear what we have on the go and give us your ideas and feedback!
URL:https://quadnb.ca/activity/general-meeting/2026-02-17/
LOCATION:Petty Trail Blazers ATV Club #33\, 25 Maple Street\, Petitcodiac\, NB\, Canada
CATEGORIES:Meetings
ATTACH;FMTTYPE=image/png:https://quadnb.ca/wp-content/uploads/2025/11/1000014877.png
ORGANIZER;CN="Petty Trail Blazers ATV Club Inc. (#33)":MAILTO:ptbatvclub@yahoo.com
GEO:45.92626;-65.17174
X-APPLE-STRUCTURED-LOCATION;VALUE=URI;X-ADDRESS=Petty Trail Blazers ATV Club #33 25 Maple Street Petitcodiac NB Canada;X-APPLE-RADIUS=500;X-TITLE=25 Maple Street:geo:-65.17174,45.92626
END:VEVENT
BEGIN:VEVENT
DTSTART;TZID=America/Moncton:20260120T190000
DTEND;TZID=America/Moncton:20260120T200000
DTSTAMP:20260425T183258
CREATED:20251119T170422Z
LAST-MODIFIED:20251216T170808Z
UID:10002511-1768935600-1768939200@quadnb.ca
SUMMARY:General meeting - Petty Trail Blazers
DESCRIPTION:All members are welcome and encouraged to attend the Petty Trail Blazers ATV Club's monthly general meeting! \n  \nCome out and hear what we have on the go and give us your ideas and feedback!
URL:https://quadnb.ca/activity/general-meeting/2026-01-20/
LOCATION:Petty Trail Blazers ATV Club #33\, 25 Maple Street\, Petitcodiac\, NB\, Canada
CATEGORIES:Meetings
ATTACH;FMTTYPE=image/png:https://quadnb.ca/wp-content/uploads/2025/11/1000014877.png
ORGANIZER;CN="Petty Trail Blazers ATV Club Inc. (#33)":MAILTO:ptbatvclub@yahoo.com
GEO:45.92626;-65.17174
X-APPLE-STRUCTURED-LOCATION;VALUE=URI;X-ADDRESS=Petty Trail Blazers ATV Club #33 25 Maple Street Petitcodiac NB Canada;X-APPLE-RADIUS=500;X-TITLE=25 Maple Street:geo:-65.17174,45.92626
END:VEVENT
BEGIN:VEVENT
DTSTART;TZID=America/Moncton:20251206T110000
DTEND;TZID=America/Moncton:20251206T190000
DTSTAMP:20260425T183258
CREATED:20251119T165628Z
LAST-MODIFIED:20251119T170904Z
UID:10002509-1765018800-1765047600@quadnb.ca
SUMMARY:PTB FUN RUN
DESCRIPTION:A great chance to get out on the trails before the busy hoilday season starts! This is a marked run\, starting at our Clubhouse 25 Maple St. We will be heading toward Elgin and looping in and around then back to the clubhouse where there will be live music by Adam McKiel! Club swag will be on sale as well as 50/50!
URL:https://quadnb.ca/activity/ptb-fun-run/
LOCATION:Petty Trail Blazers ATV Club #33\, 25 Maple Street\, Petitcodiac\, NB\, Canada
CATEGORIES:Events
ATTACH;FMTTYPE=image/png:https://quadnb.ca/wp-content/uploads/2025/11/1000018973.png
GEO:45.92626;-65.17174
X-APPLE-STRUCTURED-LOCATION;VALUE=URI;X-ADDRESS=Petty Trail Blazers ATV Club #33 25 Maple Street Petitcodiac NB Canada;X-APPLE-RADIUS=500;X-TITLE=25 Maple Street:geo:-65.17174,45.92626
END:VEVENT
END:VCALENDAR