BEGIN:VCALENDAR
VERSION:2.0
PRODID:-//Quad NB - ECPv6.15.20//NONSGML v1.0//EN
CALSCALE:GREGORIAN
METHOD:PUBLISH
X-ORIGINAL-URL:https://quadnb.ca
X-WR-CALDESC:Events for Quad NB
REFRESH-INTERVAL;VALUE=DURATION:PT1H
X-Robots-Tag:noindex
X-PUBLISHED-TTL:PT1H
BEGIN:VTIMEZONE
TZID:America/Moncton
BEGIN:DAYLIGHT
TZOFFSETFROM:-0400
TZOFFSETTO:-0300
TZNAME:ADT
DTSTART:20240310T060000
END:DAYLIGHT
BEGIN:STANDARD
TZOFFSETFROM:-0300
TZOFFSETTO:-0400
TZNAME:AST
DTSTART:20241103T050000
END:STANDARD
BEGIN:DAYLIGHT
TZOFFSETFROM:-0400
TZOFFSETTO:-0300
TZNAME:ADT
DTSTART:20250309T060000
END:DAYLIGHT
BEGIN:STANDARD
TZOFFSETFROM:-0300
TZOFFSETTO:-0400
TZNAME:AST
DTSTART:20251102T050000
END:STANDARD
BEGIN:DAYLIGHT
TZOFFSETFROM:-0400
TZOFFSETTO:-0300
TZNAME:ADT
DTSTART:20260308T060000
END:DAYLIGHT
BEGIN:STANDARD
TZOFFSETFROM:-0300
TZOFFSETTO:-0400
TZNAME:AST
DTSTART:20261101T050000
END:STANDARD
END:VTIMEZONE
BEGIN:VEVENT
DTSTART;TZID=America/Moncton:20251129T220000
DTEND;TZID=America/Moncton:20251129T223000
DTSTAMP:20260425T211330
CREATED:20250805T162029Z
LAST-MODIFIED:20250805T162029Z
UID:10001052-1764453600-1764455400@quadnb.ca
SUMMARY:Annual Lottery for Club V.T.T. La Randonnée Nord-Est
DESCRIPTION:Get a chance to win a brand new 2025 Polaris Ranger 1500 XD Northstar Ultimate side-by-side. \n  \nTickets are $100 each. The draw will take place at 10:00 pm\, after the banquet dinner at the Centre Communautaire de Ste-Rose\, located at 1939 Route 355\, Sainte-Rose\, NB. \nThe points of sale are all listed on the attached poster. \n  \nYou can also purchase tickets directly from "Club V.T.T. La Randonnée Nord-Est Inc." by sending an E-Transfer to Lloyd LeBlanc at: lloydleblanc2009@hotmail.com \n  \nOnly 1\,000 tickets available.  A minimum of 800 tickets must be sold; otherwise\, the lottery will become a 50/50 draw.
URL:https://quadnb.ca/activity/annual-lottery-for-club-v-t-t-la-randonnee-nord-est/
LOCATION:Centre Communautaire de Ste-Rose\, 1939 Route 355\, Ste-Rose\, NB\, E1X 2W6\, Canada
CATEGORIES:Lotteries
ATTACH;FMTTYPE=image/jpeg:https://quadnb.ca/wp-content/uploads/2025/08/LOTERIE-ANNUEL.jpg
ORGANIZER;CN="Club V.T.T. La Randonn%C3%A9e Nord-Est Inc.":MAILTO:clubvttlarandonneenordest@hotmail.com
GEO:47.62145;-64.956074
X-APPLE-STRUCTURED-LOCATION;VALUE=URI;X-ADDRESS=Centre Communautaire de Ste-Rose 1939 Route 355 Ste-Rose NB E1X 2W6 Canada;X-APPLE-RADIUS=500;X-TITLE=1939 Route 355:geo:-64.956074,47.62145
END:VEVENT
BEGIN:VEVENT
DTSTART;TZID=America/Moncton:20251129T160000
DTEND;TZID=America/Moncton:20251130T010000
DTSTAMP:20260425T211330
CREATED:20250805T142009Z
LAST-MODIFIED:20250805T163517Z
UID:10001050-1764432000-1764464400@quadnb.ca
SUMMARY:10th Anniversary Banquet Dinner
DESCRIPTION:It has already been ten years since clubs #12 and 13 merged to form one club\, now known as Club #12 - Club VTT La Randonnée Nord-Est Inc. \n  \nTo celebrate this union\, a Banquet Dinner will be held at the "Centre Communautaire de Ste-Rose"\, Saturday\, November 29\, 2025. \n  \nThe welcoming reception will start at 4:00 pm and will be followed by the banquet dinner at 6:00 pm.  Hurry and buy your tickets now\, as only 300 are available.  They cost $35 per ticket and will be available for purchase until November 22\, 2025. \nFor your entertainment\, a live band will be playing from 9:00 pm to 1:00 am. \n  \nThe draw to win a 2025 Polaris Ranger will be at 10:00 pm. \n \n  \n  \nTickets for the draw are $100 each. \nFor more information\, please call 1-506-600-2255 or write to clubvttlarandonneenordest@hotmail.com.
URL:https://quadnb.ca/activity/10th-anniversary-banquet-dinner/
LOCATION:Centre Communautaire de Ste-Rose\, 1939 Route 355\, Ste-Rose\, NB\, E1X 2W6\, Canada
CATEGORIES:Events
ATTACH;FMTTYPE=image/jpeg:https://quadnb.ca/wp-content/uploads/2025/08/SOUPER-BANQUET-AFFICHE-29-NOV.-2025.jpg
ORGANIZER;CN="Club V.T.T. La Randonn%C3%A9e Nord-Est Inc.":MAILTO:clubvttlarandonneenordest@hotmail.com
GEO:47.62145;-64.956074
X-APPLE-STRUCTURED-LOCATION;VALUE=URI;X-ADDRESS=Centre Communautaire de Ste-Rose 1939 Route 355 Ste-Rose NB E1X 2W6 Canada;X-APPLE-RADIUS=500;X-TITLE=1939 Route 355:geo:-64.956074,47.62145
END:VEVENT
END:VCALENDAR