BEGIN:VCALENDAR
VERSION:2.0
PRODID:-//Quad NB - ECPv6.15.20//NONSGML v1.0//EN
CALSCALE:GREGORIAN
METHOD:PUBLISH
X-ORIGINAL-URL:https://quadnb.ca
X-WR-CALDESC:Events for Quad NB
REFRESH-INTERVAL;VALUE=DURATION:PT1H
X-Robots-Tag:noindex
X-PUBLISHED-TTL:PT1H
BEGIN:VTIMEZONE
TZID:America/Moncton
BEGIN:DAYLIGHT
TZOFFSETFROM:-0400
TZOFFSETTO:-0300
TZNAME:ADT
DTSTART:20250309T060000
END:DAYLIGHT
BEGIN:STANDARD
TZOFFSETFROM:-0300
TZOFFSETTO:-0400
TZNAME:AST
DTSTART:20251102T050000
END:STANDARD
BEGIN:DAYLIGHT
TZOFFSETFROM:-0400
TZOFFSETTO:-0300
TZNAME:ADT
DTSTART:20260308T060000
END:DAYLIGHT
BEGIN:STANDARD
TZOFFSETFROM:-0300
TZOFFSETTO:-0400
TZNAME:AST
DTSTART:20261101T050000
END:STANDARD
BEGIN:DAYLIGHT
TZOFFSETFROM:-0400
TZOFFSETTO:-0300
TZNAME:ADT
DTSTART:20270314T060000
END:DAYLIGHT
BEGIN:STANDARD
TZOFFSETFROM:-0300
TZOFFSETTO:-0400
TZNAME:AST
DTSTART:20271107T050000
END:STANDARD
END:VTIMEZONE
BEGIN:VEVENT
DTSTART;TZID=America/Moncton:20260523T083000
DTEND;TZID=America/Moncton:20260523T170000
DTSTAMP:20260425T230956
CREATED:20260310T125612Z
LAST-MODIFIED:20260310T130348Z
UID:10003203-1779525000-1779555600@quadnb.ca
SUMMARY:Spring Rally - organized by the Rusagonis ATV Club
DESCRIPTION:DATE:  May 23\, 2026 \n  \nREGISTRATION - Rusagonis Rec. Centre\,1609 Post Rd\, Rusagonis - 8:30 a.m. to 10:30 a.m. \n  \nCost: $20 (includes three (3) draw prize tickets) \n  \nCommunity Breakfast starts at 8:00 a.m. \n  \nParking: Offload and Park on Dugan Rd & drive to the Rec. Centre to register \n  \nBBQ on the trail provided by Oromocto SPCA \n  \nSigned route – approximately 80 km \n  \nPrizes must be claimed at the Rec Centre by 5:00 p.m. \n  \nRegistration\, licence\, insurance\, trail permit\, and helmet are all required. \n  \nPermits will be available for sale. \n  \n**Online registration option closes May 8/26 @ 11:59 p.m. \n  \nIn-person registration day of the Rally from 8:30 a.m. to 10:30 a.m.
URL:https://quadnb.ca/activity/spring-rally-organized-by-the-rusagonis-atv-club/
LOCATION:Rusagonis Recreation Centre\, 1609 Post Rd\, Rusagonis\, New Brunswick\, Canada
CATEGORIES:Events
ATTACH;FMTTYPE=image/jpeg:https://quadnb.ca/wp-content/uploads/2026/03/Spring-Rally-2026_v2-1.jpg
ORGANIZER;CN="Rusagonis ATV Club":MAILTO:rusagonisatvclub@gmail.com
GEO:45.7907907;-66.623334
X-APPLE-STRUCTURED-LOCATION;VALUE=URI;X-ADDRESS=Rusagonis Recreation Centre 1609 Post Rd Rusagonis New Brunswick Canada;X-APPLE-RADIUS=500;X-TITLE=1609 Post Rd:geo:-66.623334,45.7907907
END:VEVENT
END:VCALENDAR