BEGIN:VCALENDAR
VERSION:2.0
PRODID:-//Quad NB - ECPv6.15.20//NONSGML v1.0//EN
CALSCALE:GREGORIAN
METHOD:PUBLISH
X-ORIGINAL-URL:https://quadnb.ca/?lang=fr
X-WR-CALDESC:Évènements pour Quad NB
REFRESH-INTERVAL;VALUE=DURATION:PT1H
X-Robots-Tag:noindex
X-PUBLISHED-TTL:PT1H
BEGIN:VTIMEZONE
TZID:America/Moncton
BEGIN:DAYLIGHT
TZOFFSETFROM:-0400
TZOFFSETTO:-0300
TZNAME:ADT
DTSTART:20290311T060000
END:DAYLIGHT
BEGIN:STANDARD
TZOFFSETFROM:-0300
TZOFFSETTO:-0400
TZNAME:AST
DTSTART:20291104T050000
END:STANDARD
BEGIN:DAYLIGHT
TZOFFSETFROM:-0400
TZOFFSETTO:-0300
TZNAME:ADT
DTSTART:20300310T060000
END:DAYLIGHT
BEGIN:STANDARD
TZOFFSETFROM:-0300
TZOFFSETTO:-0400
TZNAME:AST
DTSTART:20301103T050000
END:STANDARD
BEGIN:DAYLIGHT
TZOFFSETFROM:-0400
TZOFFSETTO:-0300
TZNAME:ADT
DTSTART:20310309T060000
END:DAYLIGHT
BEGIN:STANDARD
TZOFFSETFROM:-0300
TZOFFSETTO:-0400
TZNAME:AST
DTSTART:20311102T050000
END:STANDARD
END:VTIMEZONE
BEGIN:VEVENT
DTSTART;TZID=America/Moncton:20300506T190000
DTEND;TZID=America/Moncton:20300506T200000
DTSTAMP:20260425T183259
CREATED:20251126T205634Z
LAST-MODIFIED:20251126T205634Z
UID:10002639-1904324400-1904328000@quadnb.ca
SUMMARY:Réunion Mensuelle - Club VTT Rogersville Trail Runners Inc. *
DESCRIPTION:Réunion mensuelle du Club VTT Rogersville Trail Runners Inc. \nle 1 décembre 2025 à 19 h 00 \nSalle communautaire à l'Édifice municipal du Village de Rogersville. \n  \nLes réunions mensuelles du club auront lieu tous les premiers lundis du mois à la Salle communautaire du Village de Rogersville située au 10989\, rue Principale à Rogersville\, NB.
URL:https://quadnb.ca/activity/reunion-mensuelle-club-vtt-rogersville-trail-runners-inc/2030-05-06/?lang=fr
LOCATION:Village de Rogersville\, 10989 rue Principale\, Rogersville\, NB\, E4Y 2L6\, Canada
CATEGORIES:Réunions
ATTACH;FMTTYPE=image/jpeg:https://quadnb.ca/wp-content/uploads/2025/05/19-Club-VTT-Rogersville-Trail-Runners-Inc.-LOGO.jpg
GEO:46.7222268;-65.4180773
X-APPLE-STRUCTURED-LOCATION;VALUE=URI;X-ADDRESS=Village de Rogersville 10989 rue Principale Rogersville NB E4Y 2L6 Canada;X-APPLE-RADIUS=500;X-TITLE=10989 rue Principale:geo:-65.4180773,46.7222268
END:VEVENT
BEGIN:VEVENT
DTSTART;TZID=America/Moncton:20300603T190000
DTEND;TZID=America/Moncton:20300603T200000
DTSTAMP:20260425T183259
CREATED:20251126T205634Z
LAST-MODIFIED:20251126T205634Z
UID:10002640-1906743600-1906747200@quadnb.ca
SUMMARY:Réunion Mensuelle - Club VTT Rogersville Trail Runners Inc. *
DESCRIPTION:Réunion mensuelle du Club VTT Rogersville Trail Runners Inc. \nle 1 décembre 2025 à 19 h 00 \nSalle communautaire à l'Édifice municipal du Village de Rogersville. \n  \nLes réunions mensuelles du club auront lieu tous les premiers lundis du mois à la Salle communautaire du Village de Rogersville située au 10989\, rue Principale à Rogersville\, NB.
URL:https://quadnb.ca/activity/reunion-mensuelle-club-vtt-rogersville-trail-runners-inc/2030-06-03/?lang=fr
LOCATION:Village de Rogersville\, 10989 rue Principale\, Rogersville\, NB\, E4Y 2L6\, Canada
CATEGORIES:Réunions
ATTACH;FMTTYPE=image/jpeg:https://quadnb.ca/wp-content/uploads/2025/05/19-Club-VTT-Rogersville-Trail-Runners-Inc.-LOGO.jpg
GEO:46.7222268;-65.4180773
X-APPLE-STRUCTURED-LOCATION;VALUE=URI;X-ADDRESS=Village de Rogersville 10989 rue Principale Rogersville NB E4Y 2L6 Canada;X-APPLE-RADIUS=500;X-TITLE=10989 rue Principale:geo:-65.4180773,46.7222268
END:VEVENT
BEGIN:VEVENT
DTSTART;TZID=America/Moncton:20300701T190000
DTEND;TZID=America/Moncton:20300701T200000
DTSTAMP:20260425T183259
CREATED:20251126T205634Z
LAST-MODIFIED:20251126T205634Z
UID:10002641-1909162800-1909166400@quadnb.ca
SUMMARY:Réunion Mensuelle - Club VTT Rogersville Trail Runners Inc. *
DESCRIPTION:Réunion mensuelle du Club VTT Rogersville Trail Runners Inc. \nle 1 décembre 2025 à 19 h 00 \nSalle communautaire à l'Édifice municipal du Village de Rogersville. \n  \nLes réunions mensuelles du club auront lieu tous les premiers lundis du mois à la Salle communautaire du Village de Rogersville située au 10989\, rue Principale à Rogersville\, NB.
URL:https://quadnb.ca/activity/reunion-mensuelle-club-vtt-rogersville-trail-runners-inc/2030-07-01/?lang=fr
LOCATION:Village de Rogersville\, 10989 rue Principale\, Rogersville\, NB\, E4Y 2L6\, Canada
CATEGORIES:Réunions
ATTACH;FMTTYPE=image/jpeg:https://quadnb.ca/wp-content/uploads/2025/05/19-Club-VTT-Rogersville-Trail-Runners-Inc.-LOGO.jpg
GEO:46.7222268;-65.4180773
X-APPLE-STRUCTURED-LOCATION;VALUE=URI;X-ADDRESS=Village de Rogersville 10989 rue Principale Rogersville NB E4Y 2L6 Canada;X-APPLE-RADIUS=500;X-TITLE=10989 rue Principale:geo:-65.4180773,46.7222268
END:VEVENT
BEGIN:VEVENT
DTSTART;TZID=America/Moncton:20300805T190000
DTEND;TZID=America/Moncton:20300805T200000
DTSTAMP:20260425T183259
CREATED:20251126T205634Z
LAST-MODIFIED:20251126T205634Z
UID:10002642-1912186800-1912190400@quadnb.ca
SUMMARY:Réunion Mensuelle - Club VTT Rogersville Trail Runners Inc. *
DESCRIPTION:Réunion mensuelle du Club VTT Rogersville Trail Runners Inc. \nle 1 décembre 2025 à 19 h 00 \nSalle communautaire à l'Édifice municipal du Village de Rogersville. \n  \nLes réunions mensuelles du club auront lieu tous les premiers lundis du mois à la Salle communautaire du Village de Rogersville située au 10989\, rue Principale à Rogersville\, NB.
URL:https://quadnb.ca/activity/reunion-mensuelle-club-vtt-rogersville-trail-runners-inc/2030-08-05/?lang=fr
LOCATION:Village de Rogersville\, 10989 rue Principale\, Rogersville\, NB\, E4Y 2L6\, Canada
CATEGORIES:Réunions
ATTACH;FMTTYPE=image/jpeg:https://quadnb.ca/wp-content/uploads/2025/05/19-Club-VTT-Rogersville-Trail-Runners-Inc.-LOGO.jpg
GEO:46.7222268;-65.4180773
X-APPLE-STRUCTURED-LOCATION;VALUE=URI;X-ADDRESS=Village de Rogersville 10989 rue Principale Rogersville NB E4Y 2L6 Canada;X-APPLE-RADIUS=500;X-TITLE=10989 rue Principale:geo:-65.4180773,46.7222268
END:VEVENT
BEGIN:VEVENT
DTSTART;TZID=America/Moncton:20300902T190000
DTEND;TZID=America/Moncton:20300902T200000
DTSTAMP:20260425T183259
CREATED:20251126T205634Z
LAST-MODIFIED:20251126T205634Z
UID:10002643-1914606000-1914609600@quadnb.ca
SUMMARY:Réunion Mensuelle - Club VTT Rogersville Trail Runners Inc. *
DESCRIPTION:Réunion mensuelle du Club VTT Rogersville Trail Runners Inc. \nle 1 décembre 2025 à 19 h 00 \nSalle communautaire à l'Édifice municipal du Village de Rogersville. \n  \nLes réunions mensuelles du club auront lieu tous les premiers lundis du mois à la Salle communautaire du Village de Rogersville située au 10989\, rue Principale à Rogersville\, NB.
URL:https://quadnb.ca/activity/reunion-mensuelle-club-vtt-rogersville-trail-runners-inc/2030-09-02/?lang=fr
LOCATION:Village de Rogersville\, 10989 rue Principale\, Rogersville\, NB\, E4Y 2L6\, Canada
CATEGORIES:Réunions
ATTACH;FMTTYPE=image/jpeg:https://quadnb.ca/wp-content/uploads/2025/05/19-Club-VTT-Rogersville-Trail-Runners-Inc.-LOGO.jpg
GEO:46.7222268;-65.4180773
X-APPLE-STRUCTURED-LOCATION;VALUE=URI;X-ADDRESS=Village de Rogersville 10989 rue Principale Rogersville NB E4Y 2L6 Canada;X-APPLE-RADIUS=500;X-TITLE=10989 rue Principale:geo:-65.4180773,46.7222268
END:VEVENT
BEGIN:VEVENT
DTSTART;TZID=America/Moncton:20301007T190000
DTEND;TZID=America/Moncton:20301007T200000
DTSTAMP:20260425T183259
CREATED:20251126T205634Z
LAST-MODIFIED:20251126T205634Z
UID:10002644-1917630000-1917633600@quadnb.ca
SUMMARY:Réunion Mensuelle - Club VTT Rogersville Trail Runners Inc. *
DESCRIPTION:Réunion mensuelle du Club VTT Rogersville Trail Runners Inc. \nle 1 décembre 2025 à 19 h 00 \nSalle communautaire à l'Édifice municipal du Village de Rogersville. \n  \nLes réunions mensuelles du club auront lieu tous les premiers lundis du mois à la Salle communautaire du Village de Rogersville située au 10989\, rue Principale à Rogersville\, NB.
URL:https://quadnb.ca/activity/reunion-mensuelle-club-vtt-rogersville-trail-runners-inc/2030-10-07/?lang=fr
LOCATION:Village de Rogersville\, 10989 rue Principale\, Rogersville\, NB\, E4Y 2L6\, Canada
CATEGORIES:Réunions
ATTACH;FMTTYPE=image/jpeg:https://quadnb.ca/wp-content/uploads/2025/05/19-Club-VTT-Rogersville-Trail-Runners-Inc.-LOGO.jpg
GEO:46.7222268;-65.4180773
X-APPLE-STRUCTURED-LOCATION;VALUE=URI;X-ADDRESS=Village de Rogersville 10989 rue Principale Rogersville NB E4Y 2L6 Canada;X-APPLE-RADIUS=500;X-TITLE=10989 rue Principale:geo:-65.4180773,46.7222268
END:VEVENT
BEGIN:VEVENT
DTSTART;TZID=America/Moncton:20301104T190000
DTEND;TZID=America/Moncton:20301104T200000
DTSTAMP:20260425T183259
CREATED:20251126T205634Z
LAST-MODIFIED:20251126T205634Z
UID:10002645-1920049200-1920052800@quadnb.ca
SUMMARY:Réunion Mensuelle - Club VTT Rogersville Trail Runners Inc. *
DESCRIPTION:Réunion mensuelle du Club VTT Rogersville Trail Runners Inc. \nle 1 décembre 2025 à 19 h 00 \nSalle communautaire à l'Édifice municipal du Village de Rogersville. \n  \nLes réunions mensuelles du club auront lieu tous les premiers lundis du mois à la Salle communautaire du Village de Rogersville située au 10989\, rue Principale à Rogersville\, NB.
URL:https://quadnb.ca/activity/reunion-mensuelle-club-vtt-rogersville-trail-runners-inc/2030-11-04/?lang=fr
LOCATION:Village de Rogersville\, 10989 rue Principale\, Rogersville\, NB\, E4Y 2L6\, Canada
CATEGORIES:Réunions
ATTACH;FMTTYPE=image/jpeg:https://quadnb.ca/wp-content/uploads/2025/05/19-Club-VTT-Rogersville-Trail-Runners-Inc.-LOGO.jpg
GEO:46.7222268;-65.4180773
X-APPLE-STRUCTURED-LOCATION;VALUE=URI;X-ADDRESS=Village de Rogersville 10989 rue Principale Rogersville NB E4Y 2L6 Canada;X-APPLE-RADIUS=500;X-TITLE=10989 rue Principale:geo:-65.4180773,46.7222268
END:VEVENT
END:VCALENDAR