BEGIN:VCALENDAR
VERSION:2.0
PRODID:-//Quad NB - ECPv6.15.20//NONSGML v1.0//EN
CALSCALE:GREGORIAN
METHOD:PUBLISH
X-WR-CALNAME:Quad NB
X-ORIGINAL-URL:https://quadnb.ca/?lang=fr
X-WR-CALDESC:Évènements pour Quad NB
REFRESH-INTERVAL;VALUE=DURATION:PT1H
X-Robots-Tag:noindex
X-PUBLISHED-TTL:PT1H
BEGIN:VTIMEZONE
TZID:America/Moncton
BEGIN:DAYLIGHT
TZOFFSETFROM:-0400
TZOFFSETTO:-0300
TZNAME:ADT
DTSTART:20240310T060000
END:DAYLIGHT
BEGIN:STANDARD
TZOFFSETFROM:-0300
TZOFFSETTO:-0400
TZNAME:AST
DTSTART:20241103T050000
END:STANDARD
BEGIN:DAYLIGHT
TZOFFSETFROM:-0400
TZOFFSETTO:-0300
TZNAME:ADT
DTSTART:20250309T060000
END:DAYLIGHT
BEGIN:STANDARD
TZOFFSETFROM:-0300
TZOFFSETTO:-0400
TZNAME:AST
DTSTART:20251102T050000
END:STANDARD
BEGIN:DAYLIGHT
TZOFFSETFROM:-0400
TZOFFSETTO:-0300
TZNAME:ADT
DTSTART:20260308T060000
END:DAYLIGHT
BEGIN:STANDARD
TZOFFSETFROM:-0300
TZOFFSETTO:-0400
TZNAME:AST
DTSTART:20261101T050000
END:STANDARD
BEGIN:DAYLIGHT
TZOFFSETFROM:-0400
TZOFFSETTO:-0300
TZNAME:ADT
DTSTART:20270314T060000
END:DAYLIGHT
BEGIN:STANDARD
TZOFFSETFROM:-0300
TZOFFSETTO:-0400
TZNAME:AST
DTSTART:20271107T050000
END:STANDARD
END:VTIMEZONE
BEGIN:VEVENT
DTSTART;TZID=America/Moncton:20260406T190000
DTEND;TZID=America/Moncton:20260406T200000
DTSTAMP:20260425T133710
CREATED:20251126T205634Z
LAST-MODIFIED:20251126T205634Z
UID:10002590-1775502000-1775505600@quadnb.ca
SUMMARY:Réunion Mensuelle - Club VTT Rogersville Trail Runners Inc. *
DESCRIPTION:Réunion mensuelle du Club VTT Rogersville Trail Runners Inc. \nle 1 décembre 2025 à 19 h 00 \nSalle communautaire à l'Édifice municipal du Village de Rogersville. \n  \nLes réunions mensuelles du club auront lieu tous les premiers lundis du mois à la Salle communautaire du Village de Rogersville située au 10989\, rue Principale à Rogersville\, NB.
URL:https://quadnb.ca/activity/reunion-mensuelle-club-vtt-rogersville-trail-runners-inc/2026-04-06/?lang=fr
LOCATION:Village de Rogersville\, 10989 rue Principale\, Rogersville\, NB\, E4Y 2L6\, Canada
CATEGORIES:Réunions
ATTACH;FMTTYPE=image/jpeg:https://quadnb.ca/wp-content/uploads/2025/05/19-Club-VTT-Rogersville-Trail-Runners-Inc.-LOGO.jpg
GEO:46.7222268;-65.4180773
X-APPLE-STRUCTURED-LOCATION;VALUE=URI;X-ADDRESS=Village de Rogersville 10989 rue Principale Rogersville NB E4Y 2L6 Canada;X-APPLE-RADIUS=500;X-TITLE=10989 rue Principale:geo:-65.4180773,46.7222268
END:VEVENT
BEGIN:VEVENT
DTSTART;TZID=America/Moncton:20260302T190000
DTEND;TZID=America/Moncton:20260302T200000
DTSTAMP:20260425T133710
CREATED:20251126T205634Z
LAST-MODIFIED:20251126T205634Z
UID:10002589-1772478000-1772481600@quadnb.ca
SUMMARY:Réunion Mensuelle - Club VTT Rogersville Trail Runners Inc. *
DESCRIPTION:Réunion mensuelle du Club VTT Rogersville Trail Runners Inc. \nle 1 décembre 2025 à 19 h 00 \nSalle communautaire à l'Édifice municipal du Village de Rogersville. \n  \nLes réunions mensuelles du club auront lieu tous les premiers lundis du mois à la Salle communautaire du Village de Rogersville située au 10989\, rue Principale à Rogersville\, NB.
URL:https://quadnb.ca/activity/reunion-mensuelle-club-vtt-rogersville-trail-runners-inc/2026-03-02/?lang=fr
LOCATION:Village de Rogersville\, 10989 rue Principale\, Rogersville\, NB\, E4Y 2L6\, Canada
CATEGORIES:Réunions
ATTACH;FMTTYPE=image/jpeg:https://quadnb.ca/wp-content/uploads/2025/05/19-Club-VTT-Rogersville-Trail-Runners-Inc.-LOGO.jpg
GEO:46.7222268;-65.4180773
X-APPLE-STRUCTURED-LOCATION;VALUE=URI;X-ADDRESS=Village de Rogersville 10989 rue Principale Rogersville NB E4Y 2L6 Canada;X-APPLE-RADIUS=500;X-TITLE=10989 rue Principale:geo:-65.4180773,46.7222268
END:VEVENT
BEGIN:VEVENT
DTSTART;TZID=America/Moncton:20260202T190000
DTEND;TZID=America/Moncton:20260202T200000
DTSTAMP:20260425T133710
CREATED:20251126T205634Z
LAST-MODIFIED:20251126T205634Z
UID:10002588-1770058800-1770062400@quadnb.ca
SUMMARY:Réunion Mensuelle - Club VTT Rogersville Trail Runners Inc. *
DESCRIPTION:Réunion mensuelle du Club VTT Rogersville Trail Runners Inc. \nle 1 décembre 2025 à 19 h 00 \nSalle communautaire à l'Édifice municipal du Village de Rogersville. \n  \nLes réunions mensuelles du club auront lieu tous les premiers lundis du mois à la Salle communautaire du Village de Rogersville située au 10989\, rue Principale à Rogersville\, NB.
URL:https://quadnb.ca/activity/reunion-mensuelle-club-vtt-rogersville-trail-runners-inc/2026-02-02/?lang=fr
LOCATION:Village de Rogersville\, 10989 rue Principale\, Rogersville\, NB\, E4Y 2L6\, Canada
CATEGORIES:Réunions
ATTACH;FMTTYPE=image/jpeg:https://quadnb.ca/wp-content/uploads/2025/05/19-Club-VTT-Rogersville-Trail-Runners-Inc.-LOGO.jpg
GEO:46.7222268;-65.4180773
X-APPLE-STRUCTURED-LOCATION;VALUE=URI;X-ADDRESS=Village de Rogersville 10989 rue Principale Rogersville NB E4Y 2L6 Canada;X-APPLE-RADIUS=500;X-TITLE=10989 rue Principale:geo:-65.4180773,46.7222268
END:VEVENT
BEGIN:VEVENT
DTSTART;TZID=America/Moncton:20260105T190000
DTEND;TZID=America/Moncton:20260105T200000
DTSTAMP:20260425T133710
CREATED:20251126T205634Z
LAST-MODIFIED:20251126T205634Z
UID:10002587-1767639600-1767643200@quadnb.ca
SUMMARY:Réunion Mensuelle - Club VTT Rogersville Trail Runners Inc. *
DESCRIPTION:Réunion mensuelle du Club VTT Rogersville Trail Runners Inc. \nle 1 décembre 2025 à 19 h 00 \nSalle communautaire à l'Édifice municipal du Village de Rogersville. \n  \nLes réunions mensuelles du club auront lieu tous les premiers lundis du mois à la Salle communautaire du Village de Rogersville située au 10989\, rue Principale à Rogersville\, NB.
URL:https://quadnb.ca/activity/reunion-mensuelle-club-vtt-rogersville-trail-runners-inc/2026-01-05/?lang=fr
LOCATION:Village de Rogersville\, 10989 rue Principale\, Rogersville\, NB\, E4Y 2L6\, Canada
CATEGORIES:Réunions
ATTACH;FMTTYPE=image/jpeg:https://quadnb.ca/wp-content/uploads/2025/05/19-Club-VTT-Rogersville-Trail-Runners-Inc.-LOGO.jpg
GEO:46.7222268;-65.4180773
X-APPLE-STRUCTURED-LOCATION;VALUE=URI;X-ADDRESS=Village de Rogersville 10989 rue Principale Rogersville NB E4Y 2L6 Canada;X-APPLE-RADIUS=500;X-TITLE=10989 rue Principale:geo:-65.4180773,46.7222268
END:VEVENT
BEGIN:VEVENT
DTSTART;TZID=America/Moncton:20251201T190000
DTEND;TZID=America/Moncton:20251201T200000
DTSTAMP:20260425T133710
CREATED:20251126T205634Z
LAST-MODIFIED:20251126T205634Z
UID:10002586-1764615600-1764619200@quadnb.ca
SUMMARY:Réunion Mensuelle - Club VTT Rogersville Trail Runners Inc. *
DESCRIPTION:Réunion mensuelle du Club VTT Rogersville Trail Runners Inc. \nle 1 décembre 2025 à 19 h 00 \nSalle communautaire à l'Édifice municipal du Village de Rogersville. \n  \nLes réunions mensuelles du club auront lieu tous les premiers lundis du mois à la Salle communautaire du Village de Rogersville située au 10989\, rue Principale à Rogersville\, NB.
URL:https://quadnb.ca/activity/reunion-mensuelle-club-vtt-rogersville-trail-runners-inc/2025-12-01/?lang=fr
LOCATION:Village de Rogersville\, 10989 rue Principale\, Rogersville\, NB\, E4Y 2L6\, Canada
CATEGORIES:Réunions
ATTACH;FMTTYPE=image/jpeg:https://quadnb.ca/wp-content/uploads/2025/05/19-Club-VTT-Rogersville-Trail-Runners-Inc.-LOGO.jpg
GEO:46.7222268;-65.4180773
X-APPLE-STRUCTURED-LOCATION;VALUE=URI;X-ADDRESS=Village de Rogersville 10989 rue Principale Rogersville NB E4Y 2L6 Canada;X-APPLE-RADIUS=500;X-TITLE=10989 rue Principale:geo:-65.4180773,46.7222268
END:VEVENT
END:VCALENDAR