BEGIN:VCALENDAR
VERSION:2.0
PRODID:-//Quad NB - ECPv6.15.20//NONSGML v1.0//EN
CALSCALE:GREGORIAN
METHOD:PUBLISH
X-WR-CALNAME:Quad NB
X-ORIGINAL-URL:https://quadnb.ca/?lang=fr
X-WR-CALDESC:Évènements pour Quad NB
REFRESH-INTERVAL;VALUE=DURATION:PT1H
X-Robots-Tag:noindex
X-PUBLISHED-TTL:PT1H
BEGIN:VTIMEZONE
TZID:America/Moncton
BEGIN:DAYLIGHT
TZOFFSETFROM:-0400
TZOFFSETTO:-0300
TZNAME:ADT
DTSTART:20240310T060000
END:DAYLIGHT
BEGIN:STANDARD
TZOFFSETFROM:-0300
TZOFFSETTO:-0400
TZNAME:AST
DTSTART:20241103T050000
END:STANDARD
BEGIN:DAYLIGHT
TZOFFSETFROM:-0400
TZOFFSETTO:-0300
TZNAME:ADT
DTSTART:20250309T060000
END:DAYLIGHT
BEGIN:STANDARD
TZOFFSETFROM:-0300
TZOFFSETTO:-0400
TZNAME:AST
DTSTART:20251102T050000
END:STANDARD
BEGIN:DAYLIGHT
TZOFFSETFROM:-0400
TZOFFSETTO:-0300
TZNAME:ADT
DTSTART:20260308T060000
END:DAYLIGHT
BEGIN:STANDARD
TZOFFSETFROM:-0300
TZOFFSETTO:-0400
TZNAME:AST
DTSTART:20261101T050000
END:STANDARD
BEGIN:DAYLIGHT
TZOFFSETFROM:-0400
TZOFFSETTO:-0300
TZNAME:ADT
DTSTART:20270314T060000
END:DAYLIGHT
BEGIN:STANDARD
TZOFFSETFROM:-0300
TZOFFSETTO:-0400
TZNAME:AST
DTSTART:20271107T050000
END:STANDARD
END:VTIMEZONE
BEGIN:VEVENT
DTSTART;TZID=America/Moncton:20260421T190000
DTEND;TZID=America/Moncton:20260421T200000
DTSTAMP:20260425T164516
CREATED:20251119T170621Z
LAST-MODIFIED:20251217T135625Z
UID:10002521-1776798000-1776801600@quadnb.ca
SUMMARY:Réunion mensuelle - Petty Trail Blazers ATV Club
DESCRIPTION:Notre assemblée générale mensuelle est ouverte à tous les membres ! \nVenez découvrir nos projets en cours et partagez vos idées et vos commentaires !
URL:https://quadnb.ca/activity/reunion-mensuelle-petty-trail-blazers-atv-club/2026-04-21/?lang=fr
LOCATION:Petty Trail Blazers ATV Club # 33\, 25 Maple Street\, Petitcodiac\, NB\, Canada
CATEGORIES:Réunions
ATTACH;FMTTYPE=image/png:https://quadnb.ca/wp-content/uploads/2025/11/1000014877.png
ORGANIZER;CN="Petty Trail Blazers ATV Club Inc. (#33)":MAILTO:ptbatvclub@yahoo.com
GEO:45.92626;-65.17174
X-APPLE-STRUCTURED-LOCATION;VALUE=URI;X-ADDRESS=Petty Trail Blazers ATV Club # 33 25 Maple Street Petitcodiac NB Canada;X-APPLE-RADIUS=500;X-TITLE=25 Maple Street:geo:-65.17174,45.92626
END:VEVENT
BEGIN:VEVENT
DTSTART;TZID=America/Moncton:20260317T190000
DTEND;TZID=America/Moncton:20260317T200000
DTSTAMP:20260425T164516
CREATED:20251119T170621Z
LAST-MODIFIED:20251217T135625Z
UID:10002520-1773774000-1773777600@quadnb.ca
SUMMARY:Réunion mensuelle - Petty Trail Blazers ATV Club
DESCRIPTION:Notre assemblée générale mensuelle est ouverte à tous les membres ! \nVenez découvrir nos projets en cours et partagez vos idées et vos commentaires !
URL:https://quadnb.ca/activity/reunion-mensuelle-petty-trail-blazers-atv-club/2026-03-17/?lang=fr
LOCATION:Petty Trail Blazers ATV Club # 33\, 25 Maple Street\, Petitcodiac\, NB\, Canada
CATEGORIES:Réunions
ATTACH;FMTTYPE=image/png:https://quadnb.ca/wp-content/uploads/2025/11/1000014877.png
ORGANIZER;CN="Petty Trail Blazers ATV Club Inc. (#33)":MAILTO:ptbatvclub@yahoo.com
GEO:45.92626;-65.17174
X-APPLE-STRUCTURED-LOCATION;VALUE=URI;X-ADDRESS=Petty Trail Blazers ATV Club # 33 25 Maple Street Petitcodiac NB Canada;X-APPLE-RADIUS=500;X-TITLE=25 Maple Street:geo:-65.17174,45.92626
END:VEVENT
BEGIN:VEVENT
DTSTART;TZID=America/Moncton:20260217T190000
DTEND;TZID=America/Moncton:20260217T200000
DTSTAMP:20260425T164516
CREATED:20251119T170621Z
LAST-MODIFIED:20251217T135625Z
UID:10002519-1771354800-1771358400@quadnb.ca
SUMMARY:Réunion mensuelle - Petty Trail Blazers ATV Club
DESCRIPTION:Notre assemblée générale mensuelle est ouverte à tous les membres ! \nVenez découvrir nos projets en cours et partagez vos idées et vos commentaires !
URL:https://quadnb.ca/activity/reunion-mensuelle-petty-trail-blazers-atv-club/2026-02-17/?lang=fr
LOCATION:Petty Trail Blazers ATV Club # 33\, 25 Maple Street\, Petitcodiac\, NB\, Canada
CATEGORIES:Réunions
ATTACH;FMTTYPE=image/png:https://quadnb.ca/wp-content/uploads/2025/11/1000014877.png
ORGANIZER;CN="Petty Trail Blazers ATV Club Inc. (#33)":MAILTO:ptbatvclub@yahoo.com
GEO:45.92626;-65.17174
X-APPLE-STRUCTURED-LOCATION;VALUE=URI;X-ADDRESS=Petty Trail Blazers ATV Club # 33 25 Maple Street Petitcodiac NB Canada;X-APPLE-RADIUS=500;X-TITLE=25 Maple Street:geo:-65.17174,45.92626
END:VEVENT
BEGIN:VEVENT
DTSTART;TZID=America/Moncton:20260120T190000
DTEND;TZID=America/Moncton:20260120T200000
DTSTAMP:20260425T164516
CREATED:20251119T170621Z
LAST-MODIFIED:20251217T135625Z
UID:10002518-1768935600-1768939200@quadnb.ca
SUMMARY:Réunion mensuelle - Petty Trail Blazers ATV Club
DESCRIPTION:Notre assemblée générale mensuelle est ouverte à tous les membres ! \nVenez découvrir nos projets en cours et partagez vos idées et vos commentaires !
URL:https://quadnb.ca/activity/reunion-mensuelle-petty-trail-blazers-atv-club/2026-01-20/?lang=fr
LOCATION:Petty Trail Blazers ATV Club # 33\, 25 Maple Street\, Petitcodiac\, NB\, Canada
CATEGORIES:Réunions
ATTACH;FMTTYPE=image/png:https://quadnb.ca/wp-content/uploads/2025/11/1000014877.png
ORGANIZER;CN="Petty Trail Blazers ATV Club Inc. (#33)":MAILTO:ptbatvclub@yahoo.com
GEO:45.92626;-65.17174
X-APPLE-STRUCTURED-LOCATION;VALUE=URI;X-ADDRESS=Petty Trail Blazers ATV Club # 33 25 Maple Street Petitcodiac NB Canada;X-APPLE-RADIUS=500;X-TITLE=25 Maple Street:geo:-65.17174,45.92626
END:VEVENT
BEGIN:VEVENT
DTSTART;TZID=America/Moncton:20251206T110000
DTEND;TZID=America/Moncton:20251206T190000
DTSTAMP:20260425T164516
CREATED:20251119T165521Z
LAST-MODIFIED:20251119T171030Z
UID:10002517-1765018800-1765047600@quadnb.ca
SUMMARY:PTB Randonnée en VTT
DESCRIPTION:Une excellente occasion de découvrir les sentiers avant le début de la haute saison touristique ! Il s'agit d'une course balisée\, au départ de notre club-house situé au 25\, rue Maple. Nous nous dirigerons vers Elgin\, puis ferons une boucle avant de revenir au club-house où Adam McKiel assurera l'animation musicale ! Des articles promotionnels du club seront en vente\, ainsi qu'une tombola (50/50) !
URL:https://quadnb.ca/activity/ptb-randonnee-en-vtt/?lang=fr
LOCATION:Petty Trail Blazers ATV Club # 33\, 25 Maple Street\, Petitcodiac\, NB\, Canada
CATEGORIES:Événements
ATTACH;FMTTYPE=image/png:https://quadnb.ca/wp-content/uploads/2025/11/1000018973.png
GEO:45.92626;-65.17174
X-APPLE-STRUCTURED-LOCATION;VALUE=URI;X-ADDRESS=Petty Trail Blazers ATV Club # 33 25 Maple Street Petitcodiac NB Canada;X-APPLE-RADIUS=500;X-TITLE=25 Maple Street:geo:-65.17174,45.92626
END:VEVENT
END:VCALENDAR