BEGIN:VCALENDAR
VERSION:2.0
PRODID:-//Quad NB - ECPv6.15.20//NONSGML v1.0//EN
CALSCALE:GREGORIAN
METHOD:PUBLISH
X-WR-CALNAME:Quad NB
X-ORIGINAL-URL:https://quadnb.ca/?lang=fr
X-WR-CALDESC:Évènements pour Quad NB
REFRESH-INTERVAL;VALUE=DURATION:PT1H
X-Robots-Tag:noindex
X-PUBLISHED-TTL:PT1H
BEGIN:VTIMEZONE
TZID:America/Moncton
BEGIN:DAYLIGHT
TZOFFSETFROM:-0400
TZOFFSETTO:-0300
TZNAME:ADT
DTSTART:20240310T060000
END:DAYLIGHT
BEGIN:STANDARD
TZOFFSETFROM:-0300
TZOFFSETTO:-0400
TZNAME:AST
DTSTART:20241103T050000
END:STANDARD
BEGIN:DAYLIGHT
TZOFFSETFROM:-0400
TZOFFSETTO:-0300
TZNAME:ADT
DTSTART:20250309T060000
END:DAYLIGHT
BEGIN:STANDARD
TZOFFSETFROM:-0300
TZOFFSETTO:-0400
TZNAME:AST
DTSTART:20251102T050000
END:STANDARD
BEGIN:DAYLIGHT
TZOFFSETFROM:-0400
TZOFFSETTO:-0300
TZNAME:ADT
DTSTART:20260308T060000
END:DAYLIGHT
BEGIN:STANDARD
TZOFFSETFROM:-0300
TZOFFSETTO:-0400
TZNAME:AST
DTSTART:20261101T050000
END:STANDARD
END:VTIMEZONE
BEGIN:VEVENT
DTSTART;TZID=America/Moncton:20251129T220000
DTEND;TZID=America/Moncton:20251129T223000
DTSTAMP:20260425T213702
CREATED:20250805T162239Z
LAST-MODIFIED:20250805T162400Z
UID:10001053-1764453600-1764455400@quadnb.ca
SUMMARY:Loterie Annuelle - Club V.T.T. La Randonnée Nord-Est Inc.
DESCRIPTION:Courrez la chance de gagner un côte-à-côte Polaris Ranger 1500 XD Northstar Ultimate 2025. \n  \nLes billets sont au coût de 100 $ chacun.  Le tirage aura lieu à 22 h\, après le souper banquet du 29 novembre\, au Centre Communautaire de Ste-Rose\, situé au 1939 Route 355\, Ste-Rose\, N.-B. \n  \nLa liste des points de vente est sur l'affiche publicitaire en pièce jointe. \nVous pouvez aussi acheter vos billets directement auprès du Club V.T.T. La Randonnée Nord-Est Inc.\, ou par E-transfert: lloydleblanc2009@hotmail.com \n  \nIl y a 1 000 billets disponibles en vente.  Veuillez prendre note qu'un minimum de 800 billets doit être vendu\, sinon la loterie deviendra un tirage 50/50.
URL:https://quadnb.ca/activity/loterie-annuelle-club-v-t-t-la-randonnee-nord-est-inc/?lang=fr
LOCATION:Centre Communautaire de Ste-Rose\, 1939 Route 355\, Ste-Rose\, NB\, E1X 2W6\, Canada
CATEGORIES:Loteries
ATTACH;FMTTYPE=image/jpeg:https://quadnb.ca/wp-content/uploads/2025/08/LOTERIE-ANNUEL.jpg
ORGANIZER;CN="Club V.T.T. La Randonn%C3%A9e Nord-Est Inc.":MAILTO:clubvttlarandonneenordest@hotmail.com
GEO:47.62145;-64.956074
X-APPLE-STRUCTURED-LOCATION;VALUE=URI;X-ADDRESS=Centre Communautaire de Ste-Rose 1939 Route 355 Ste-Rose NB E1X 2W6 Canada;X-APPLE-RADIUS=500;X-TITLE=1939 Route 355:geo:-64.956074,47.62145
END:VEVENT
BEGIN:VEVENT
DTSTART;TZID=America/Moncton:20251129T160000
DTEND;TZID=America/Moncton:20251130T010000
DTSTAMP:20260425T213702
CREATED:20250805T141946Z
LAST-MODIFIED:20250805T163758Z
UID:10001051-1764432000-1764464400@quadnb.ca
SUMMARY:Banquet 10e Anniversaire
DESCRIPTION:Cela fait déjà dix ans que les clubs n° 12 et 13 ont fusionné pour former un seul club\, désormais connu sous le nom de  Club VTT La Randonnée Nord-Est Inc. \nPour célébrer cette union\, un banquet aura lieu au Centre Communautaire de Ste-Rose\, le samedi 29 novembre 2025. \nLa réception de bienvenue débutera à 16 h et sera suivie du banquet à 18 h.  Achetez vos billets dès maintenant\, car seulement 300 sont disponibles. Ils coûtent 35 $ chacun et seront en vente jusqu'au 22 novembre 2025.  Vous pouvez les procurer directement auprès du club en envoyant un E-Transfert au courriel ci-dessous. \nPour vous divertir\, un groupe de musique jouera de 21 h à 1 h. \n  \nLe tirage pour un Polaris Ranger 2025 aura lieu à 22 h. \n \n  \nLes billets pour la loterie sont au coût de 100 $ chacun. \nPour plus d'informations\, veuillez composer le 1-506-600-2255 ou écrire à clubvttlarandonneenordest@hotmail.com.  Vous pouvez aussi envoyer un E-Transfert au même courriel.
URL:https://quadnb.ca/activity/banquet-10e-anniversaire/?lang=fr
LOCATION:Centre Communautaire de Ste-Rose\, 1939 Route 355\, Ste-Rose\, NB\, E1X 2W6\, Canada
CATEGORIES:Événements
ATTACH;FMTTYPE=image/jpeg:https://quadnb.ca/wp-content/uploads/2025/08/SOUPER-BANQUET-AFFICHE-29-NOV.-2025.jpg
ORGANIZER;CN="Club V.T.T. La Randonn%C3%A9e Nord-Est Inc.":MAILTO:clubvttlarandonneenordest@hotmail.com
GEO:47.62145;-64.956074
X-APPLE-STRUCTURED-LOCATION;VALUE=URI;X-ADDRESS=Centre Communautaire de Ste-Rose 1939 Route 355 Ste-Rose NB E1X 2W6 Canada;X-APPLE-RADIUS=500;X-TITLE=1939 Route 355:geo:-64.956074,47.62145
END:VEVENT
END:VCALENDAR