BEGIN:VCALENDAR
VERSION:2.0
PRODID:-//Quad NB - ECPv6.15.20//NONSGML v1.0//EN
CALSCALE:GREGORIAN
METHOD:PUBLISH
X-WR-CALNAME:Quad NB
X-ORIGINAL-URL:https://quadnb.ca/?lang=fr
X-WR-CALDESC:Évènements pour Quad NB
REFRESH-INTERVAL;VALUE=DURATION:PT1H
X-Robots-Tag:noindex
X-PUBLISHED-TTL:PT1H
BEGIN:VTIMEZONE
TZID:America/Moncton
BEGIN:DAYLIGHT
TZOFFSETFROM:-0400
TZOFFSETTO:-0300
TZNAME:ADT
DTSTART:20250309T060000
END:DAYLIGHT
BEGIN:STANDARD
TZOFFSETFROM:-0300
TZOFFSETTO:-0400
TZNAME:AST
DTSTART:20251102T050000
END:STANDARD
BEGIN:DAYLIGHT
TZOFFSETFROM:-0400
TZOFFSETTO:-0300
TZNAME:ADT
DTSTART:20260308T060000
END:DAYLIGHT
BEGIN:STANDARD
TZOFFSETFROM:-0300
TZOFFSETTO:-0400
TZNAME:AST
DTSTART:20261101T050000
END:STANDARD
BEGIN:DAYLIGHT
TZOFFSETFROM:-0400
TZOFFSETTO:-0300
TZNAME:ADT
DTSTART:20270314T060000
END:DAYLIGHT
BEGIN:STANDARD
TZOFFSETFROM:-0300
TZOFFSETTO:-0400
TZNAME:AST
DTSTART:20271107T050000
END:STANDARD
END:VTIMEZONE
BEGIN:VEVENT
DTSTART;VALUE=DATE:20260227
DTEND;VALUE=DATE:20260228
DTSTAMP:20260425T213211
CREATED:20260105T180346Z
LAST-MODIFIED:20260105T182512Z
UID:10002903-1772150400-1772236799@quadnb.ca
SUMMARY:Loterie du Club V.T.T. 4 Saisons #14
DESCRIPTION:Tirage organisé par le Club V.T.T. 4 Saisons #14 pour levée de fonds \n■ 1er Prix:  Un crédit de voyage de 5 000 $ ou 4 000 $ en argent comptant\n■ 2e Prix: Une bicyclette électrique Maui Fat Era d'une valeur de 2 737 $ - Cabano Marine Tracadie\n■ 3e Prix: Un certificat-cadeau d'une valeur de 2 000 $ des Frères G & G. \n  \nCOÛT DES BILLETS:  25 $ \n  \nACHAT DES BILLETS:   \nVous pouvez acheter vos billets auprès du club par virement Interac à l’adresse :  vttclub4saisons@outlook.com \n➡️Veuillez nous envoyer votre nom au complet avec numéro de téléphone sur la page Facebook du club\n➡️Une confirmation avec votre billet vous sera envoyée par Messenger \n  \nBillets aussi en vente à :\n•Cabano Marine Atlantique de Tracadie-Sheila\n•Val-Comeau - Alain H Robichaud (506) 399-0695\n•Pont-Lafrance Jean-François Lebouthillier (506) 399-1453\n•Rivière-du-Portage - Mario Rousselle (506) 890-5276 et Donald Rousselle (506) 888-2573\n•Brantville - Sharon Thibodeau (506) 779-5012 \nTous les profits iront pour l’entretien des sentiers. \n 
URL:https://quadnb.ca/activity/loterie-du-club-v-t-t-4-saisons-14/?lang=fr
LOCATION:Club L'âge d'or de Haut-Rivière-du-Portage
CATEGORIES:Levées de fonds,Loteries
ATTACH;FMTTYPE=image/jpeg:https://quadnb.ca/wp-content/uploads/2026/01/IMG_1395.jpeg
ORGANIZER;CN="Club V.T.T. 4 Saison Inc. #14":MAILTO:vttclub4saisons@outlook.com
END:VEVENT
END:VCALENDAR