BEGIN:VCALENDAR
VERSION:2.0
PRODID:-//Quad NB - ECPv6.15.20//NONSGML v1.0//EN
CALSCALE:GREGORIAN
METHOD:PUBLISH
X-WR-CALNAME:Quad NB
X-ORIGINAL-URL:https://quadnb.ca/?lang=fr
X-WR-CALDESC:Évènements pour Quad NB
REFRESH-INTERVAL;VALUE=DURATION:PT1H
X-Robots-Tag:noindex
X-PUBLISHED-TTL:PT1H
BEGIN:VTIMEZONE
TZID:America/Moncton
BEGIN:DAYLIGHT
TZOFFSETFROM:-0400
TZOFFSETTO:-0300
TZNAME:ADT
DTSTART:20250309T060000
END:DAYLIGHT
BEGIN:STANDARD
TZOFFSETFROM:-0300
TZOFFSETTO:-0400
TZNAME:AST
DTSTART:20251102T050000
END:STANDARD
BEGIN:DAYLIGHT
TZOFFSETFROM:-0400
TZOFFSETTO:-0300
TZNAME:ADT
DTSTART:20260308T060000
END:DAYLIGHT
BEGIN:STANDARD
TZOFFSETFROM:-0300
TZOFFSETTO:-0400
TZNAME:AST
DTSTART:20261101T050000
END:STANDARD
BEGIN:DAYLIGHT
TZOFFSETFROM:-0400
TZOFFSETTO:-0300
TZNAME:ADT
DTSTART:20270314T060000
END:DAYLIGHT
BEGIN:STANDARD
TZOFFSETFROM:-0300
TZOFFSETTO:-0400
TZNAME:AST
DTSTART:20271107T050000
END:STANDARD
END:VTIMEZONE
BEGIN:VEVENT
DTSTART;TZID=America/Moncton:20260110T150000
DTEND;TZID=America/Moncton:20260111T000000
DTSTAMP:20260425T200637
CREATED:20251230T140937Z
LAST-MODIFIED:20251230T141444Z
UID:10002896-1768057200-1768089600@quadnb.ca
SUMMARY:Soirée Bonfire Night
DESCRIPTION:Nous sommes le Club V.T.T. 4 Saisons #14 et on vous invite à vous rassembler au feu de Val-Comeau\, NB\, sur le sentier 1402. Une soirée de musique et de karaoké en plein air. \nNous aurons du bouillon avec petit pain en vente au coût de 5 $. \n50/50 - 3billets 5$ 10billets 10$ \nLoterie voyage de rêve - 25$ \n 
URL:https://quadnb.ca/activity/soiree-bonfire-night/?lang=fr
LOCATION:Au feu de Val-Comeau
CATEGORIES:Événements
ATTACH;FMTTYPE=image/png:https://quadnb.ca/wp-content/uploads/2025/12/Dark-Grainy-Monoline-Fire-Pentecost-Christian-Instagram-Post.png
END:VEVENT
END:VCALENDAR